BEGIN:VCALENDAR
VERSION:2.0
PRODID:-//Susquehanna Purls - ECPv6.15.20//NONSGML v1.0//EN
CALSCALE:GREGORIAN
METHOD:PUBLISH
X-WR-CALNAME:Susquehanna Purls
X-ORIGINAL-URL:https://susquehannapurls.com
X-WR-CALDESC:Events for Susquehanna Purls
REFRESH-INTERVAL;VALUE=DURATION:PT1H
X-Robots-Tag:noindex
X-PUBLISHED-TTL:PT1H
BEGIN:VTIMEZONE
TZID:America/New_York
BEGIN:DAYLIGHT
TZOFFSETFROM:-0500
TZOFFSETTO:-0400
TZNAME:EDT
DTSTART:20240310T070000
END:DAYLIGHT
BEGIN:STANDARD
TZOFFSETFROM:-0400
TZOFFSETTO:-0500
TZNAME:EST
DTSTART:20241103T060000
END:STANDARD
BEGIN:DAYLIGHT
TZOFFSETFROM:-0500
TZOFFSETTO:-0400
TZNAME:EDT
DTSTART:20250309T070000
END:DAYLIGHT
BEGIN:STANDARD
TZOFFSETFROM:-0400
TZOFFSETTO:-0500
TZNAME:EST
DTSTART:20251102T060000
END:STANDARD
BEGIN:DAYLIGHT
TZOFFSETFROM:-0500
TZOFFSETTO:-0400
TZNAME:EDT
DTSTART:20260308T070000
END:DAYLIGHT
BEGIN:STANDARD
TZOFFSETFROM:-0400
TZOFFSETTO:-0500
TZNAME:EST
DTSTART:20261101T060000
END:STANDARD
END:VTIMEZONE
BEGIN:VEVENT
DTSTART;TZID=America/New_York:20251115T163000
DTEND;TZID=America/New_York:20251115T173000
DTSTAMP:20260422T232730
CREATED:20251102T020411Z
LAST-MODIFIED:20260402T135751Z
UID:2626-1763224200-1763227800@susquehannapurls.com
SUMMARY:Knitting 101
DESCRIPTION:Make a coaster while learning about cast-on\, knit and purl stitches\, and cast-off! With just these skills\, you can make So Many things! Yarn and needles will be provided. Space is limited!
URL:https://susquehannapurls.com/event/knitting-101/
LOCATION:Susquehanna Purls\, 121 Towne Square Drive\, Hershey\, PA\, 17033\, United States
CATEGORIES:Class
END:VEVENT
END:VCALENDAR